BEGIN:VCALENDAR
VERSION:2.0
PRODID:-//Pathfinder Career Academy of Ohio - ECPv6.0.10//NONSGML v1.0//EN
CALSCALE:GREGORIAN
METHOD:PUBLISH
X-ORIGINAL-URL:https://oh.pathfindercareeracademy.com
X-WR-CALDESC:Events for Pathfinder Career Academy of Ohio
REFRESH-INTERVAL;VALUE=DURATION:PT1H
X-Robots-Tag:noindex
X-PUBLISHED-TTL:PT1H
BEGIN:VTIMEZONE
TZID:America/New_York
BEGIN:DAYLIGHT
TZOFFSETFROM:-0500
TZOFFSETTO:-0400
TZNAME:EDT
DTSTART:20230312T070000
END:DAYLIGHT
BEGIN:STANDARD
TZOFFSETFROM:-0400
TZOFFSETTO:-0500
TZNAME:EST
DTSTART:20231105T060000
END:STANDARD
BEGIN:DAYLIGHT
TZOFFSETFROM:-0500
TZOFFSETTO:-0400
TZNAME:EDT
DTSTART:20240310T070000
END:DAYLIGHT
BEGIN:STANDARD
TZOFFSETFROM:-0400
TZOFFSETTO:-0500
TZNAME:EST
DTSTART:20241103T060000
END:STANDARD
BEGIN:DAYLIGHT
TZOFFSETFROM:-0500
TZOFFSETTO:-0400
TZNAME:EDT
DTSTART:20250309T070000
END:DAYLIGHT
BEGIN:STANDARD
TZOFFSETFROM:-0400
TZOFFSETTO:-0500
TZNAME:EST
DTSTART:20251102T060000
END:STANDARD
END:VTIMEZONE
BEGIN:VEVENT
DTSTART;VALUE=DATE:20250604
DTEND;VALUE=DATE:20250605
DTSTAMP:20260425T080129
CREATED:20240807T145428Z
LAST-MODIFIED:20240807T145428Z
UID:5759-1748995200-1749081599@oh.pathfindercareeracademy.com
SUMMARY:Last Day of School
DESCRIPTION:
URL:https://oh.pathfindercareeracademy.com/event/last-day-of-school/
END:VEVENT
BEGIN:VEVENT
DTSTART;VALUE=DATE:20250526
DTEND;VALUE=DATE:20250527
DTSTAMP:20260425T080129
CREATED:20240807T145358Z
LAST-MODIFIED:20240807T145358Z
UID:5753-1748217600-1748303999@oh.pathfindercareeracademy.com
SUMMARY:Memorial Day - No School
DESCRIPTION:
URL:https://oh.pathfindercareeracademy.com/event/memorial-day-no-school/
END:VEVENT
BEGIN:VEVENT
DTSTART;VALUE=DATE:20250421
DTEND;VALUE=DATE:20250426
DTSTAMP:20260425T080129
CREATED:20240807T145314Z
LAST-MODIFIED:20240807T145314Z
UID:5747-1745193600-1745625599@oh.pathfindercareeracademy.com
SUMMARY:Spring Break - No School
DESCRIPTION:
URL:https://oh.pathfindercareeracademy.com/event/spring-break-no-school/
END:VEVENT
BEGIN:VEVENT
DTSTART;VALUE=DATE:20250324
DTEND;VALUE=DATE:20250325
DTSTAMP:20260425T080129
CREATED:20240807T145230Z
LAST-MODIFIED:20240807T145230Z
UID:5741-1742774400-1742860799@oh.pathfindercareeracademy.com
SUMMARY:End of 3rd Quarter
DESCRIPTION:
URL:https://oh.pathfindercareeracademy.com/event/end-of-3rd-quarter/
END:VEVENT
BEGIN:VEVENT
DTSTART;VALUE=DATE:20250217
DTEND;VALUE=DATE:20250218
DTSTAMP:20260425T080129
CREATED:20240807T145147Z
LAST-MODIFIED:20240807T145147Z
UID:5735-1739750400-1739836799@oh.pathfindercareeracademy.com
SUMMARY:Presidents' Day - No School
DESCRIPTION:
URL:https://oh.pathfindercareeracademy.com/event/presidents-day-no-school/
END:VEVENT
BEGIN:VEVENT
DTSTART;VALUE=DATE:20250120
DTEND;VALUE=DATE:20250121
DTSTAMP:20260425T080129
CREATED:20240807T145108Z
LAST-MODIFIED:20240807T145108Z
UID:5729-1737331200-1737417599@oh.pathfindercareeracademy.com
SUMMARY:MLK Jr. Day - No School
DESCRIPTION:
URL:https://oh.pathfindercareeracademy.com/event/mlk-jr-day-no-school/
END:VEVENT
BEGIN:VEVENT
DTSTART;VALUE=DATE:20250115
DTEND;VALUE=DATE:20250116
DTSTAMP:20260425T080129
CREATED:20240807T145028Z
LAST-MODIFIED:20240807T145028Z
UID:5723-1736899200-1736985599@oh.pathfindercareeracademy.com
SUMMARY:End of Semester 1
DESCRIPTION:
URL:https://oh.pathfindercareeracademy.com/event/end-of-semester-1/
END:VEVENT
BEGIN:VEVENT
DTSTART;VALUE=DATE:20241223
DTEND;VALUE=DATE:20250104
DTSTAMP:20260425T080129
CREATED:20240807T144958Z
LAST-MODIFIED:20240807T144958Z
UID:5717-1734912000-1735948799@oh.pathfindercareeracademy.com
SUMMARY:Winter Break - No School
DESCRIPTION:
URL:https://oh.pathfindercareeracademy.com/event/winter-break-no-school/
END:VEVENT
BEGIN:VEVENT
DTSTART;VALUE=DATE:20241127
DTEND;VALUE=DATE:20241130
DTSTAMP:20260425T080129
CREATED:20240807T144908Z
LAST-MODIFIED:20240807T144908Z
UID:5711-1732665600-1732924799@oh.pathfindercareeracademy.com
SUMMARY:Thanksgiving Break - No School
DESCRIPTION:
URL:https://oh.pathfindercareeracademy.com/event/thanksgiving-break-no-school/
END:VEVENT
BEGIN:VEVENT
DTSTART;VALUE=DATE:20241111
DTEND;VALUE=DATE:20241112
DTSTAMP:20260425T080129
CREATED:20240807T144834Z
LAST-MODIFIED:20240807T144834Z
UID:5705-1731283200-1731369599@oh.pathfindercareeracademy.com
SUMMARY:Veteran's Day - No School
DESCRIPTION:
URL:https://oh.pathfindercareeracademy.com/event/veterans-day-no-school/
END:VEVENT
BEGIN:VEVENT
DTSTART;VALUE=DATE:20241023
DTEND;VALUE=DATE:20241024
DTSTAMP:20260425T080129
CREATED:20240807T144801Z
LAST-MODIFIED:20240807T144801Z
UID:5699-1729641600-1729727999@oh.pathfindercareeracademy.com
SUMMARY:End of Quarter 1
DESCRIPTION:
URL:https://oh.pathfindercareeracademy.com/event/end-of-quarter-1/
END:VEVENT
BEGIN:VEVENT
DTSTART;VALUE=DATE:20241014
DTEND;VALUE=DATE:20241015
DTSTAMP:20260425T080129
CREATED:20240807T144736Z
LAST-MODIFIED:20240807T144736Z
UID:5693-1728864000-1728950399@oh.pathfindercareeracademy.com
SUMMARY:Columbus Day - No School
DESCRIPTION:
URL:https://oh.pathfindercareeracademy.com/event/columbus-day-no-school/
END:VEVENT
BEGIN:VEVENT
DTSTART;VALUE=DATE:20240902
DTEND;VALUE=DATE:20240903
DTSTAMP:20260425T080129
CREATED:20240807T144705Z
LAST-MODIFIED:20240807T144705Z
UID:5687-1725235200-1725321599@oh.pathfindercareeracademy.com
SUMMARY:Labor Day - No School
DESCRIPTION:
URL:https://oh.pathfindercareeracademy.com/event/labor-day-no-school/
END:VEVENT
BEGIN:VEVENT
DTSTART;VALUE=DATE:20240819
DTEND;VALUE=DATE:20240820
DTSTAMP:20260425T080129
CREATED:20240807T144642Z
LAST-MODIFIED:20240807T144642Z
UID:5681-1724025600-1724111999@oh.pathfindercareeracademy.com
SUMMARY:First Day of School
DESCRIPTION:
URL:https://oh.pathfindercareeracademy.com/event/first-day-of-school/
END:VEVENT
BEGIN:VEVENT
DTSTART;VALUE=DATE:20240605
DTEND;VALUE=DATE:20240606
DTSTAMP:20260425T080129
CREATED:20230913T192442Z
LAST-MODIFIED:20230913T192442Z
UID:4289-1717545600-1717631999@oh.pathfindercareeracademy.com
SUMMARY:Last Day of School! 🎉
DESCRIPTION:June 5th is the last day of school! \nThank you for a wonderful school year 🎉🎉
URL:https://oh.pathfindercareeracademy.com/event/last-day-of-school-%f0%9f%8e%89/
END:VEVENT
BEGIN:VEVENT
DTSTART;VALUE=DATE:20240527
DTEND;VALUE=DATE:20240528
DTSTAMP:20260425T080129
CREATED:20230913T192337Z
LAST-MODIFIED:20230913T192337Z
UID:4283-1716768000-1716854399@oh.pathfindercareeracademy.com
SUMMARY:Memorial Day
DESCRIPTION:School is closed May 27th for Memorial Day. 
URL:https://oh.pathfindercareeracademy.com/event/memorial-day/
END:VEVENT
BEGIN:VEVENT
DTSTART;VALUE=DATE:20240325
DTEND;VALUE=DATE:20240330
DTSTAMP:20260425T080129
CREATED:20230913T192259Z
LAST-MODIFIED:20230913T192259Z
UID:4277-1711324800-1711756799@oh.pathfindercareeracademy.com
SUMMARY:Spring Break
DESCRIPTION:School is closed March 25th – March 29th for Spring Break. Classes will resume April 1st.  \n 
URL:https://oh.pathfindercareeracademy.com/event/spring-break/
END:VEVENT
BEGIN:VEVENT
DTSTART;VALUE=DATE:20240219
DTEND;VALUE=DATE:20240220
DTSTAMP:20260425T080129
CREATED:20230913T192201Z
LAST-MODIFIED:20230913T192201Z
UID:4271-1708300800-1708387199@oh.pathfindercareeracademy.com
SUMMARY:Presidents Day
DESCRIPTION:School is closed on February 19th for Presidents Day.
URL:https://oh.pathfindercareeracademy.com/event/presidents-day/
END:VEVENT
BEGIN:VEVENT
DTSTART;VALUE=DATE:20240115
DTEND;VALUE=DATE:20240116
DTSTAMP:20260425T080129
CREATED:20230913T192123Z
LAST-MODIFIED:20230913T192123Z
UID:4265-1705276800-1705363199@oh.pathfindercareeracademy.com
SUMMARY:MLK Day
DESCRIPTION:School is closed on January 15th for Martin Luther King Jr. Day.
URL:https://oh.pathfindercareeracademy.com/event/mlk-day/
END:VEVENT
BEGIN:VEVENT
DTSTART;VALUE=DATE:20231220
DTEND;VALUE=DATE:20240102
DTSTAMP:20260425T080129
CREATED:20230913T191818Z
LAST-MODIFIED:20230913T191818Z
UID:4259-1703030400-1704153599@oh.pathfindercareeracademy.com
SUMMARY:Winter Break
DESCRIPTION:School will be closed December 20th – January 1st for Winter Break. Classes will resume January 2nd\, 2024. \nSee you in the new year! 🎉🎉
URL:https://oh.pathfindercareeracademy.com/event/winter-break/
END:VEVENT
BEGIN:VEVENT
DTSTART;VALUE=DATE:20231122
DTEND;VALUE=DATE:20231125
DTSTAMP:20260425T080129
CREATED:20230913T191559Z
LAST-MODIFIED:20230913T191559Z
UID:4253-1700611200-1700870399@oh.pathfindercareeracademy.com
SUMMARY:Thanksgiving Break
DESCRIPTION:School is closed from November 22-24th for Thanksgiving Break. Classes will resume Monday\, November 27th.
URL:https://oh.pathfindercareeracademy.com/event/thanksgiving-break/
END:VEVENT
BEGIN:VEVENT
DTSTART;TZID=America/New_York:20231026T180000
DTEND;TZID=America/New_York:20231026T190000
DTSTAMP:20260425T080129
CREATED:20231024T191548Z
LAST-MODIFIED:20231024T191548Z
UID:4532-1698343200-1698346800@oh.pathfindercareeracademy.com
SUMMARY:Parent Orientation
DESCRIPTION:October 26th is Parent Orientation from 6-7pm. A link has been sent to you. \nConnect with other parents and learn how to support your child’s growth! 
URL:https://oh.pathfindercareeracademy.com/event/parent-orientation/
END:VEVENT
BEGIN:VEVENT
DTSTART;TZID=America/New_York:20230922T100000
DTEND;TZID=America/New_York:20230922T113000
DTSTAMP:20260425T080129
CREATED:20230913T190458Z
LAST-MODIFIED:20230913T190458Z
UID:4238-1695376800-1695382200@oh.pathfindercareeracademy.com
SUMMARY:Assembly: Paving Your Path
DESCRIPTION:
URL:https://oh.pathfindercareeracademy.com/event/assembly-paving-your-path/
LOCATION:Big Blue Button
END:VEVENT
END:VCALENDAR