BEGIN:VCALENDAR
VERSION:2.0
PRODID:-//Pathfinder Career Academy of Ohio - ECPv6.0.10//NONSGML v1.0//EN
CALSCALE:GREGORIAN
METHOD:PUBLISH
X-WR-CALNAME:Pathfinder Career Academy of Ohio
X-ORIGINAL-URL:https://oh.pathfindercareeracademy.com
X-WR-CALDESC:Events for Pathfinder Career Academy of Ohio
REFRESH-INTERVAL;VALUE=DURATION:PT1H
X-Robots-Tag:noindex
X-PUBLISHED-TTL:PT1H
BEGIN:VTIMEZONE
TZID:America/New_York
BEGIN:DAYLIGHT
TZOFFSETFROM:-0500
TZOFFSETTO:-0400
TZNAME:EDT
DTSTART:20230312T070000
END:DAYLIGHT
BEGIN:STANDARD
TZOFFSETFROM:-0400
TZOFFSETTO:-0500
TZNAME:EST
DTSTART:20231105T060000
END:STANDARD
BEGIN:DAYLIGHT
TZOFFSETFROM:-0500
TZOFFSETTO:-0400
TZNAME:EDT
DTSTART:20240310T070000
END:DAYLIGHT
BEGIN:STANDARD
TZOFFSETFROM:-0400
TZOFFSETTO:-0500
TZNAME:EST
DTSTART:20241103T060000
END:STANDARD
END:VTIMEZONE
BEGIN:VEVENT
DTSTART;VALUE=DATE:20240902
DTEND;VALUE=DATE:20240903
DTSTAMP:20260425T120958
CREATED:20240807T144705Z
LAST-MODIFIED:20240807T144705Z
UID:5687-1725235200-1725321599@oh.pathfindercareeracademy.com
SUMMARY:Labor Day - No School
DESCRIPTION:
URL:https://oh.pathfindercareeracademy.com/event/labor-day-no-school/
END:VEVENT
BEGIN:VEVENT
DTSTART;VALUE=DATE:20240819
DTEND;VALUE=DATE:20240820
DTSTAMP:20260425T120958
CREATED:20240807T144642Z
LAST-MODIFIED:20240807T144642Z
UID:5681-1724025600-1724111999@oh.pathfindercareeracademy.com
SUMMARY:First Day of School
DESCRIPTION:
URL:https://oh.pathfindercareeracademy.com/event/first-day-of-school/
END:VEVENT
BEGIN:VEVENT
DTSTART;VALUE=DATE:20240605
DTEND;VALUE=DATE:20240606
DTSTAMP:20260425T120958
CREATED:20230913T192442Z
LAST-MODIFIED:20230913T192442Z
UID:4289-1717545600-1717631999@oh.pathfindercareeracademy.com
SUMMARY:Last Day of School! 🎉
DESCRIPTION:June 5th is the last day of school! \nThank you for a wonderful school year 🎉🎉
URL:https://oh.pathfindercareeracademy.com/event/last-day-of-school-%f0%9f%8e%89/
END:VEVENT
BEGIN:VEVENT
DTSTART;VALUE=DATE:20240527
DTEND;VALUE=DATE:20240528
DTSTAMP:20260425T120958
CREATED:20230913T192337Z
LAST-MODIFIED:20230913T192337Z
UID:4283-1716768000-1716854399@oh.pathfindercareeracademy.com
SUMMARY:Memorial Day
DESCRIPTION:School is closed May 27th for Memorial Day. 
URL:https://oh.pathfindercareeracademy.com/event/memorial-day/
END:VEVENT
BEGIN:VEVENT
DTSTART;VALUE=DATE:20240325
DTEND;VALUE=DATE:20240330
DTSTAMP:20260425T120958
CREATED:20230913T192259Z
LAST-MODIFIED:20230913T192259Z
UID:4277-1711324800-1711756799@oh.pathfindercareeracademy.com
SUMMARY:Spring Break
DESCRIPTION:School is closed March 25th – March 29th for Spring Break. Classes will resume April 1st.  \n 
URL:https://oh.pathfindercareeracademy.com/event/spring-break/
END:VEVENT
BEGIN:VEVENT
DTSTART;VALUE=DATE:20240219
DTEND;VALUE=DATE:20240220
DTSTAMP:20260425T120958
CREATED:20230913T192201Z
LAST-MODIFIED:20230913T192201Z
UID:4271-1708300800-1708387199@oh.pathfindercareeracademy.com
SUMMARY:Presidents Day
DESCRIPTION:School is closed on February 19th for Presidents Day.
URL:https://oh.pathfindercareeracademy.com/event/presidents-day/
END:VEVENT
BEGIN:VEVENT
DTSTART;VALUE=DATE:20240115
DTEND;VALUE=DATE:20240116
DTSTAMP:20260425T120958
CREATED:20230913T192123Z
LAST-MODIFIED:20230913T192123Z
UID:4265-1705276800-1705363199@oh.pathfindercareeracademy.com
SUMMARY:MLK Day
DESCRIPTION:School is closed on January 15th for Martin Luther King Jr. Day.
URL:https://oh.pathfindercareeracademy.com/event/mlk-day/
END:VEVENT
BEGIN:VEVENT
DTSTART;VALUE=DATE:20231220
DTEND;VALUE=DATE:20240102
DTSTAMP:20260425T120958
CREATED:20230913T191818Z
LAST-MODIFIED:20230913T191818Z
UID:4259-1703030400-1704153599@oh.pathfindercareeracademy.com
SUMMARY:Winter Break
DESCRIPTION:School will be closed December 20th – January 1st for Winter Break. Classes will resume January 2nd\, 2024. \nSee you in the new year! 🎉🎉
URL:https://oh.pathfindercareeracademy.com/event/winter-break/
END:VEVENT
BEGIN:VEVENT
DTSTART;VALUE=DATE:20231122
DTEND;VALUE=DATE:20231125
DTSTAMP:20260425T120958
CREATED:20230913T191559Z
LAST-MODIFIED:20230913T191559Z
UID:4253-1700611200-1700870399@oh.pathfindercareeracademy.com
SUMMARY:Thanksgiving Break
DESCRIPTION:School is closed from November 22-24th for Thanksgiving Break. Classes will resume Monday\, November 27th.
URL:https://oh.pathfindercareeracademy.com/event/thanksgiving-break/
END:VEVENT
BEGIN:VEVENT
DTSTART;TZID=America/New_York:20231026T180000
DTEND;TZID=America/New_York:20231026T190000
DTSTAMP:20260425T120958
CREATED:20231024T191548Z
LAST-MODIFIED:20231024T191548Z
UID:4532-1698343200-1698346800@oh.pathfindercareeracademy.com
SUMMARY:Parent Orientation
DESCRIPTION:October 26th is Parent Orientation from 6-7pm. A link has been sent to you. \nConnect with other parents and learn how to support your child’s growth! 
URL:https://oh.pathfindercareeracademy.com/event/parent-orientation/
END:VEVENT
BEGIN:VEVENT
DTSTART;TZID=America/New_York:20230922T100000
DTEND;TZID=America/New_York:20230922T113000
DTSTAMP:20260425T120958
CREATED:20230913T190458Z
LAST-MODIFIED:20230913T190458Z
UID:4238-1695376800-1695382200@oh.pathfindercareeracademy.com
SUMMARY:Assembly: Paving Your Path
DESCRIPTION:
URL:https://oh.pathfindercareeracademy.com/event/assembly-paving-your-path/
LOCATION:Big Blue Button
END:VEVENT
END:VCALENDAR